BEGIN:VCALENDAR
VERSION:2.0
PRODID:-//wp-events-plugin.com//7.2.3.1//EN
TZID:Europe/Paris
X-WR-TIMEZONE:Europe/Paris
BEGIN:VEVENT
UID:16@lamadeleinedemain.fr
DTSTART;TZID=Europe/Paris:20260308T100000
DTEND;TZID=Europe/Paris:20260308T200000
DTSTAMP:20260305T112446Z
URL:https://lamadeleinedemain.fr/events/journee-internationale-des-droits-
 de-la-femme/
SUMMARY:Journée internationale des Droits de la Femme
DESCRIPTION:De 10h à 13h30 en notre local\, au 82 de la rue Jeanne Maillot
 te : quiz\, livres mis à disposition sur les droits des femmes\, brainsto
 rming et atelier pancartes en prévision de la manifestation de l’après
 -midi\n13h30 : Manifestation place de l’Opéra à Lile\n18h30 : En coop
 ération avec CinéArts Brasilis et en partenariat avec Desvia Productora\
 , AGiR POUR L'AVENiR / La Madeleine Demain vous invite à un ciné-débat 
 autour du film documentaire "Doméstica" de Gabriel Mascaro. La projection
  sera suivie d’un échange modéré par : Hélène ROUSSEL\, candidate 
 à la mairie de La Madeleine pour les élections municipales 2026\, engag
 ée pour repenser les enjeux sociaux et urbains &amp\; Cecília PACHECO LE
 MES\, de l’École Nationale Supérieure d’Architecture et de Paysage d
 e Lille.\n\n\nSynthèse du film :Sept adolescentes se voient confier une m
 ission insolite : filmer pendant une semaine leur employée de maison\, pu
 is remettre les images brutes au réalisateur Gabriel Mascaro. Entre l’i
 ntimité révélée\, les dynamiques de pouvoir et la mise en scène du qu
 otidien\, DOMÉSTICA offre un regard contemporain sur le travail domestiqu
 e au sein du foyer. Ce documentaire se transforme en un puissant essai sur
  les liens entre affect et travail\, interrogeant les frontières invisibl
 es qui structurent nos relations humaines.\n Pourquoi venir ?Un film percu
 tant pour questionner ensemble les rapports de classe\, de genre et d’af
 fect dans notre société. Une occasion unique de croiser les regards entr
 e cinéma\, politique et architecture !\n
ATTACH;FMTTYPE=image/jpeg:https://lamadeleinedemain.fr/wp-content/uploads/
 2026/03/dimanche-mars.png
END:VEVENT
BEGIN:VTIMEZONE
TZID:Europe/Paris
X-LIC-LOCATION:Europe/Paris
BEGIN:STANDARD
DTSTART:20251026T020000
TZOFFSETFROM:+0200
TZOFFSETTO:+0100
TZNAME:CET
END:STANDARD
END:VTIMEZONE
END:VCALENDAR