BEGIN:VCALENDAR
VERSION:2.0
PRODID:-//wp-events-plugin.com//7.2.3.1//EN
TZID:Europe/Paris
X-WR-TIMEZONE:Europe/Paris
BEGIN:VEVENT
UID:15@lamadeleinedemain.fr
DTSTART;TZID=Europe/Paris:20260307T100000
DTEND;TZID=Europe/Paris:20260307T120000
DTSTAMP:20260305T110931Z
URL:https://lamadeleinedemain.fr/events/atelier-thematique-habitat-logemen
 t/
SUMMARY:Atelier thématique - Habitat logement
DESCRIPTION:Atelier gratuit en présence d'intervenants extérieurs\nLa Mad
 eleine est la ville la plus dense de la métropole lilloise et pourtant to
 ujours très attractive. Pour ne pas subir le réchauffement climatique da
 ns une ville très minérale\, trop chaude\, nous devons donner plus de pl
 ace à la végétalisation avec un développement urbain maîtrisé.\nLors
  de cet atelier\, nous évoquerons :\n\n\n 	Les prérogatives d’une vil
 le en matière de logement et de logement social ?\n 	Connaître et compre
 ndre les textes qui encadrent la construction de logements neufs sur des t
 errains privés\n 	Connaître les règles de transformations de bureaux in
 occupés en logements sociaux\n 	Comment susciter et accompagner un projet
  d’habitat intergénérationnel\n
ATTACH;FMTTYPE=image/jpeg:https://lamadeleinedemain.fr/wp-content/uploads/
 2026/03/reunion-samedi-mars.png
LOCATION:Local de campagne - Agir pour l'avenir\, 82 rue Jeanne Maillotte\,
  La Madeleine\, 59110\, France
X-APPLE-STRUCTURED-LOCATION;VALUE=URI;X-ADDRESS=82 rue Jeanne Maillotte\, L
 a Madeleine\, 59110\, France;X-APPLE-RADIUS=100;X-TITLE=Local de campagne 
 - Agir pour l'avenir:geo:0,0
END:VEVENT
BEGIN:VTIMEZONE
TZID:Europe/Paris
X-LIC-LOCATION:Europe/Paris
BEGIN:STANDARD
DTSTART:20251026T020000
TZOFFSETFROM:+0200
TZOFFSETTO:+0100
TZNAME:CET
END:STANDARD
END:VTIMEZONE
END:VCALENDAR